BEGIN:VCALENDAR
VERSION:2.0
PRODID:-//Andrew College - ECPv6.15.20//NONSGML v1.0//EN
CALSCALE:GREGORIAN
METHOD:PUBLISH
X-ORIGINAL-URL:https://www.andrewcollege.edu
X-WR-CALDESC:Events for Andrew College
REFRESH-INTERVAL;VALUE=DURATION:PT1H
X-Robots-Tag:noindex
X-PUBLISHED-TTL:PT1H
BEGIN:VTIMEZONE
TZID:America/New_York
BEGIN:DAYLIGHT
TZOFFSETFROM:-0500
TZOFFSETTO:-0400
TZNAME:EDT
DTSTART:20250309T070000
END:DAYLIGHT
BEGIN:STANDARD
TZOFFSETFROM:-0400
TZOFFSETTO:-0500
TZNAME:EST
DTSTART:20251102T060000
END:STANDARD
BEGIN:DAYLIGHT
TZOFFSETFROM:-0500
TZOFFSETTO:-0400
TZNAME:EDT
DTSTART:20260308T070000
END:DAYLIGHT
BEGIN:STANDARD
TZOFFSETFROM:-0400
TZOFFSETTO:-0500
TZNAME:EST
DTSTART:20261101T060000
END:STANDARD
BEGIN:DAYLIGHT
TZOFFSETFROM:-0500
TZOFFSETTO:-0400
TZNAME:EDT
DTSTART:20270314T070000
END:DAYLIGHT
BEGIN:STANDARD
TZOFFSETFROM:-0400
TZOFFSETTO:-0500
TZNAME:EST
DTSTART:20271107T060000
END:STANDARD
END:VTIMEZONE
BEGIN:VEVENT
DTSTART;TZID=America/New_York:20260504T120000
DTEND;TZID=America/New_York:20260504T130000
DTSTAMP:20260424T110707
CREATED:20241012T021032Z
LAST-MODIFIED:20250519T124018Z
UID:14473-1777896000-1777899600@www.andrewcollege.edu
SUMMARY:Phi Theta Kappa Meeting in PDR
DESCRIPTION:
URL:https://www.andrewcollege.edu/event/phi-theta-kappa-meeting-in-pdr-165/
END:VEVENT
BEGIN:VEVENT
DTSTART;TZID=America/New_York:20260505T093000
DTEND;TZID=America/New_York:20260505T110000
DTSTAMP:20260424T110707
CREATED:20240505T135522Z
LAST-MODIFIED:20250618T154018Z
UID:12743-1777973400-1777978800@www.andrewcollege.edu
SUMMARY:Cabinet
DESCRIPTION:
URL:https://www.andrewcollege.edu/event/cabinet-109/
END:VEVENT
BEGIN:VEVENT
DTSTART;TZID=America/New_York:20260511T120000
DTEND;TZID=America/New_York:20260511T130000
DTSTAMP:20260424T110707
CREATED:20241016T022525Z
LAST-MODIFIED:20250519T124018Z
UID:14483-1778500800-1778504400@www.andrewcollege.edu
SUMMARY:Phi Theta Kappa Meeting in PDR
DESCRIPTION:
URL:https://www.andrewcollege.edu/event/phi-theta-kappa-meeting-in-pdr-166/
END:VEVENT
BEGIN:VEVENT
DTSTART;TZID=America/New_York:20260512T093000
DTEND;TZID=America/New_York:20260512T110000
DTSTAMP:20260424T110707
CREATED:20240512T141017Z
LAST-MODIFIED:20250618T154018Z
UID:12780-1778578200-1778583600@www.andrewcollege.edu
SUMMARY:Cabinet
DESCRIPTION:
URL:https://www.andrewcollege.edu/event/cabinet-110/
END:VEVENT
BEGIN:VEVENT
DTSTART;TZID=America/New_York:20260512T120000
DTEND;TZID=America/New_York:20260512T130000
DTSTAMP:20260424T110707
CREATED:20240512T141017Z
LAST-MODIFIED:20250618T154018Z
UID:12781-1778587200-1778590800@www.andrewcollege.edu
SUMMARY:Cuthbert Rotary Club Meeting
DESCRIPTION:
URL:https://www.andrewcollege.edu/event/cuthbert-rotary-club-meeting-76/
LOCATION:Turner Dining Hall\, 416 College St\, Cuthbert\, GA\, United States
END:VEVENT
BEGIN:VEVENT
DTSTART;TZID=America/New_York:20260512T153000
DTEND;TZID=America/New_York:20260512T163000
DTSTAMP:20260424T110707
CREATED:20240512T141017Z
LAST-MODIFIED:20250115T104036Z
UID:12782-1778599800-1778603400@www.andrewcollege.edu
SUMMARY:Faculty Meeting
DESCRIPTION:
URL:https://www.andrewcollege.edu/event/faculty-meeting-26/
END:VEVENT
BEGIN:VEVENT
DTSTART;TZID=America/New_York:20260514T113000
DTEND;TZID=America/New_York:20260514T130000
DTSTAMP:20260424T110707
CREATED:20240514T141021Z
LAST-MODIFIED:20250618T154018Z
UID:12789-1778758200-1778763600@www.andrewcollege.edu
SUMMARY:Randolph County Chamber of Commerce
DESCRIPTION:
URL:https://www.andrewcollege.edu/event/randolph-county-chamber-of-commerce-26/
LOCATION:Turner Dining Hall\, 416 College St\, Cuthbert\, GA\, United States
END:VEVENT
BEGIN:VEVENT
DTSTART;TZID=America/New_York:20260518T120000
DTEND;TZID=America/New_York:20260518T130000
DTSTAMP:20260424T110707
CREATED:20241026T024404Z
LAST-MODIFIED:20250519T124018Z
UID:14568-1779105600-1779109200@www.andrewcollege.edu
SUMMARY:Phi Theta Kappa Meeting in PDR
DESCRIPTION:
URL:https://www.andrewcollege.edu/event/phi-theta-kappa-meeting-in-pdr-167/
END:VEVENT
BEGIN:VEVENT
DTSTART;TZID=America/New_York:20260519T093000
DTEND;TZID=America/New_York:20260519T110000
DTSTAMP:20260424T110707
CREATED:20240519T141059Z
LAST-MODIFIED:20250618T154018Z
UID:12817-1779183000-1779188400@www.andrewcollege.edu
SUMMARY:Cabinet
DESCRIPTION:
URL:https://www.andrewcollege.edu/event/cabinet-111/
END:VEVENT
BEGIN:VEVENT
DTSTART;TZID=America/New_York:20260519T120000
DTEND;TZID=America/New_York:20260519T130000
DTSTAMP:20260424T110707
CREATED:20240519T141059Z
LAST-MODIFIED:20250618T154018Z
UID:12818-1779192000-1779195600@www.andrewcollege.edu
SUMMARY:Cuthbert Rotary Club Meeting
DESCRIPTION:
URL:https://www.andrewcollege.edu/event/cuthbert-rotary-club-meeting-77/
LOCATION:Turner Dining Hall\, 416 College St\, Cuthbert\, GA\, United States
END:VEVENT
BEGIN:VEVENT
DTSTART;TZID=America/New_York:20260525T120000
DTEND;TZID=America/New_York:20260525T130000
DTSTAMP:20260424T110707
CREATED:20241101T025751Z
LAST-MODIFIED:20250519T124018Z
UID:14583-1779710400-1779714000@www.andrewcollege.edu
SUMMARY:Phi Theta Kappa Meeting in PDR
DESCRIPTION:
URL:https://www.andrewcollege.edu/event/phi-theta-kappa-meeting-in-pdr-168/
END:VEVENT
BEGIN:VEVENT
DTSTART;TZID=America/New_York:20260526T093000
DTEND;TZID=America/New_York:20260526T110000
DTSTAMP:20260424T110707
CREATED:20240526T142917Z
LAST-MODIFIED:20250618T154018Z
UID:12852-1779787800-1779793200@www.andrewcollege.edu
SUMMARY:Cabinet
DESCRIPTION:
URL:https://www.andrewcollege.edu/event/cabinet-112/
END:VEVENT
BEGIN:VEVENT
DTSTART;TZID=America/New_York:20260526T120000
DTEND;TZID=America/New_York:20260526T130000
DTSTAMP:20260424T110707
CREATED:20240526T142917Z
LAST-MODIFIED:20250618T154018Z
UID:12853-1779796800-1779800400@www.andrewcollege.edu
SUMMARY:Cuthbert Rotary Club Meeting
DESCRIPTION:
URL:https://www.andrewcollege.edu/event/cuthbert-rotary-club-meeting-78/
LOCATION:Turner Dining Hall\, 416 College St\, Cuthbert\, GA\, United States
END:VEVENT
END:VCALENDAR