BEGIN:VCALENDAR
VERSION:2.0
PRODID:-//Andrew College - ECPv6.15.20//NONSGML v1.0//EN
CALSCALE:GREGORIAN
METHOD:PUBLISH
X-ORIGINAL-URL:https://www.andrewcollege.edu
X-WR-CALDESC:Events for Andrew College
REFRESH-INTERVAL;VALUE=DURATION:PT1H
X-Robots-Tag:noindex
X-PUBLISHED-TTL:PT1H
BEGIN:VTIMEZONE
TZID:America/New_York
BEGIN:DAYLIGHT
TZOFFSETFROM:-0500
TZOFFSETTO:-0400
TZNAME:EDT
DTSTART:20250309T070000
END:DAYLIGHT
BEGIN:STANDARD
TZOFFSETFROM:-0400
TZOFFSETTO:-0500
TZNAME:EST
DTSTART:20251102T060000
END:STANDARD
BEGIN:DAYLIGHT
TZOFFSETFROM:-0500
TZOFFSETTO:-0400
TZNAME:EDT
DTSTART:20260308T070000
END:DAYLIGHT
BEGIN:STANDARD
TZOFFSETFROM:-0400
TZOFFSETTO:-0500
TZNAME:EST
DTSTART:20261101T060000
END:STANDARD
BEGIN:DAYLIGHT
TZOFFSETFROM:-0500
TZOFFSETTO:-0400
TZNAME:EDT
DTSTART:20270314T070000
END:DAYLIGHT
BEGIN:STANDARD
TZOFFSETFROM:-0400
TZOFFSETTO:-0500
TZNAME:EST
DTSTART:20271107T060000
END:STANDARD
END:VTIMEZONE
BEGIN:VEVENT
DTSTART;TZID=America/New_York:20260320T120000
DTEND;TZID=America/New_York:20260320T130000
DTSTAMP:20260420T051517
CREATED:20240914T002712Z
LAST-MODIFIED:20240920T004031Z
UID:13987-1774008000-1774011600@www.andrewcollege.edu
SUMMARY:Phi Theta Kappa Meeting in PDR
DESCRIPTION:
URL:https://www.andrewcollege.edu/event/phi-theta-kappa-meeting-in-pdr-80/
END:VEVENT
BEGIN:VEVENT
DTSTART;TZID=America/New_York:20260323T120000
DTEND;TZID=America/New_York:20260323T130000
DTSTAMP:20260420T051517
CREATED:20240921T004103Z
LAST-MODIFIED:20250519T124016Z
UID:14141-1774267200-1774270800@www.andrewcollege.edu
SUMMARY:Phi Theta Kappa Meeting in PDR
DESCRIPTION:
URL:https://www.andrewcollege.edu/event/phi-theta-kappa-meeting-in-pdr-159/
END:VEVENT
BEGIN:VEVENT
DTSTART;TZID=America/New_York:20260324T093000
DTEND;TZID=America/New_York:20260324T110000
DTSTAMP:20260420T051517
CREATED:20240405T183421Z
LAST-MODIFIED:20250618T154017Z
UID:12376-1774344600-1774350000@www.andrewcollege.edu
SUMMARY:Cabinet
DESCRIPTION:
URL:https://www.andrewcollege.edu/event/cabinet-103/
END:VEVENT
BEGIN:VEVENT
DTSTART;TZID=America/New_York:20260324T120000
DTEND;TZID=America/New_York:20260324T130000
DTSTAMP:20260420T051517
CREATED:20240405T183421Z
LAST-MODIFIED:20250618T154017Z
UID:12377-1774353600-1774357200@www.andrewcollege.edu
SUMMARY:Cuthbert Rotary Club Meeting
DESCRIPTION:
URL:https://www.andrewcollege.edu/event/cuthbert-rotary-club-meeting-72/
LOCATION:Turner Dining Hall\, 416 College St\, Cuthbert\, GA\, United States
END:VEVENT
BEGIN:VEVENT
DTSTART;TZID=America/New_York:20260330T120000
DTEND;TZID=America/New_York:20260330T130000
DTSTAMP:20260420T051517
CREATED:20240924T005530Z
LAST-MODIFIED:20250519T124017Z
UID:14224-1774872000-1774875600@www.andrewcollege.edu
SUMMARY:Phi Theta Kappa Meeting in PDR
DESCRIPTION:
URL:https://www.andrewcollege.edu/event/phi-theta-kappa-meeting-in-pdr-160/
END:VEVENT
BEGIN:VEVENT
DTSTART;TZID=America/New_York:20260331T093000
DTEND;TZID=America/New_York:20260331T110000
DTSTAMP:20260420T051517
CREATED:20240405T183421Z
LAST-MODIFIED:20250618T154017Z
UID:12378-1774949400-1774954800@www.andrewcollege.edu
SUMMARY:Cabinet
DESCRIPTION:
URL:https://www.andrewcollege.edu/event/cabinet-104/
END:VEVENT
END:VCALENDAR