BEGIN:VCALENDAR
VERSION:2.0
PRODID:-//Andrew College - ECPv6.15.20//NONSGML v1.0//EN
CALSCALE:GREGORIAN
METHOD:PUBLISH
X-ORIGINAL-URL:https://www.andrewcollege.edu
X-WR-CALDESC:Events for Andrew College
REFRESH-INTERVAL;VALUE=DURATION:PT1H
X-Robots-Tag:noindex
X-PUBLISHED-TTL:PT1H
BEGIN:VTIMEZONE
TZID:America/New_York
BEGIN:DAYLIGHT
TZOFFSETFROM:-0500
TZOFFSETTO:-0400
TZNAME:EDT
DTSTART:20250309T070000
END:DAYLIGHT
BEGIN:STANDARD
TZOFFSETFROM:-0400
TZOFFSETTO:-0500
TZNAME:EST
DTSTART:20251102T060000
END:STANDARD
BEGIN:DAYLIGHT
TZOFFSETFROM:-0500
TZOFFSETTO:-0400
TZNAME:EDT
DTSTART:20260308T070000
END:DAYLIGHT
BEGIN:STANDARD
TZOFFSETFROM:-0400
TZOFFSETTO:-0500
TZNAME:EST
DTSTART:20261101T060000
END:STANDARD
BEGIN:DAYLIGHT
TZOFFSETFROM:-0500
TZOFFSETTO:-0400
TZNAME:EDT
DTSTART:20270314T070000
END:DAYLIGHT
BEGIN:STANDARD
TZOFFSETFROM:-0400
TZOFFSETTO:-0500
TZNAME:EST
DTSTART:20271107T060000
END:STANDARD
END:VTIMEZONE
BEGIN:VEVENT
DTSTART;TZID=America/New_York:20260825T120000
DTEND;TZID=America/New_York:20260825T130000
DTSTAMP:20260424T184957
CREATED:20240825T231117Z
LAST-MODIFIED:20250618T154020Z
UID:13729-1787659200-1787662800@www.andrewcollege.edu
SUMMARY:Cuthbert Rotary Club Meeting
DESCRIPTION:
URL:https://www.andrewcollege.edu/event/cuthbert-rotary-club-meeting-87/
LOCATION:Turner Dining Hall\, 416 College St\, Cuthbert\, GA\, United States
END:VEVENT
BEGIN:VEVENT
DTSTART;TZID=America/New_York:20260831T120000
DTEND;TZID=America/New_York:20260831T130000
DTSTAMP:20260424T184957
CREATED:20250110T095632Z
LAST-MODIFIED:20250519T124021Z
UID:15151-1788177600-1788181200@www.andrewcollege.edu
SUMMARY:Phi Theta Kappa Meeting in PDR
DESCRIPTION:
URL:https://www.andrewcollege.edu/event/phi-theta-kappa-meeting-in-pdr-182/
LOCATION:GA
END:VEVENT
BEGIN:VEVENT
DTSTART;TZID=America/New_York:20260901T093000
DTEND;TZID=America/New_York:20260901T110000
DTSTAMP:20260424T184957
CREATED:20240901T232635Z
LAST-MODIFIED:20250618T154020Z
UID:13777-1788255000-1788260400@www.andrewcollege.edu
SUMMARY:Cabinet
DESCRIPTION:
URL:https://www.andrewcollege.edu/event/cabinet-126/
LOCATION:GA
END:VEVENT
BEGIN:VEVENT
DTSTART;TZID=America/New_York:20260907T120000
DTEND;TZID=America/New_York:20260907T130000
DTSTAMP:20260424T184957
CREATED:20250114T102542Z
LAST-MODIFIED:20250519T124021Z
UID:15186-1788782400-1788786000@www.andrewcollege.edu
SUMMARY:Phi Theta Kappa Meeting in PDR
DESCRIPTION:
URL:https://www.andrewcollege.edu/event/phi-theta-kappa-meeting-in-pdr-183/
LOCATION:GA
END:VEVENT
BEGIN:VEVENT
DTSTART;TZID=America/New_York:20260908T093000
DTEND;TZID=America/New_York:20260908T110000
DTSTAMP:20260424T184957
CREATED:20250115T104040Z
LAST-MODIFIED:20250618T154020Z
UID:15193-1788859800-1788865200@www.andrewcollege.edu
SUMMARY:Cabinet
DESCRIPTION:
URL:https://www.andrewcollege.edu/event/cabinet-127/
LOCATION:GA
END:VEVENT
BEGIN:VEVENT
DTSTART;TZID=America/New_York:20260908T120000
DTEND;TZID=America/New_York:20260908T130000
DTSTAMP:20260424T184957
CREATED:20250115T104040Z
LAST-MODIFIED:20250618T154020Z
UID:15194-1788868800-1788872400@www.andrewcollege.edu
SUMMARY:Cuthbert Rotary Club Meeting
DESCRIPTION:
URL:https://www.andrewcollege.edu/event/cuthbert-rotary-club-meeting-88/
LOCATION:Turner Dining Hall\, 416 College St\, Cuthbert\, GA\, United States
END:VEVENT
BEGIN:VEVENT
DTSTART;TZID=America/New_York:20260908T153000
DTEND;TZID=America/New_York:20260908T163000
DTSTAMP:20260424T184957
CREATED:20250115T104040Z
LAST-MODIFIED:20250115T104040Z
UID:15195-1788881400-1788885000@www.andrewcollege.edu
SUMMARY:Faculty Meeting
DESCRIPTION:
URL:https://www.andrewcollege.edu/event/faculty-meeting-30/
LOCATION:GA
END:VEVENT
BEGIN:VEVENT
DTSTART;TZID=America/New_York:20260910T113000
DTEND;TZID=America/New_York:20260910T130000
DTSTAMP:20260424T184957
CREATED:20250116T104027Z
LAST-MODIFIED:20250618T154020Z
UID:15201-1789039800-1789045200@www.andrewcollege.edu
SUMMARY:Randolph County Chamber of Commerce
DESCRIPTION:
URL:https://www.andrewcollege.edu/event/randolph-county-chamber-of-commerce-30/
LOCATION:Turner Dining Hall\, 416 College St\, Cuthbert\, GA\, United States
END:VEVENT
BEGIN:VEVENT
DTSTART;TZID=America/New_York:20260914T120000
DTEND;TZID=America/New_York:20260914T130000
DTSTAMP:20260424T184957
CREATED:20250116T104027Z
LAST-MODIFIED:20250519T124021Z
UID:15202-1789387200-1789390800@www.andrewcollege.edu
SUMMARY:Phi Theta Kappa Meeting in PDR
DESCRIPTION:
URL:https://www.andrewcollege.edu/event/phi-theta-kappa-meeting-in-pdr-184/
LOCATION:GA
END:VEVENT
BEGIN:VEVENT
DTSTART;TZID=America/New_York:20260915T093000
DTEND;TZID=America/New_York:20260915T110000
DTSTAMP:20260424T184957
CREATED:20250116T104027Z
LAST-MODIFIED:20250618T154020Z
UID:15203-1789464600-1789470000@www.andrewcollege.edu
SUMMARY:Cabinet
DESCRIPTION:
URL:https://www.andrewcollege.edu/event/cabinet-128/
LOCATION:GA
END:VEVENT
BEGIN:VEVENT
DTSTART;TZID=America/New_York:20260915T120000
DTEND;TZID=America/New_York:20260915T130000
DTSTAMP:20260424T184957
CREATED:20250116T104029Z
LAST-MODIFIED:20250618T154020Z
UID:15204-1789473600-1789477200@www.andrewcollege.edu
SUMMARY:Cuthbert Rotary Club Meeting
DESCRIPTION:
URL:https://www.andrewcollege.edu/event/cuthbert-rotary-club-meeting-89/
LOCATION:Turner Dining Hall\, 416 College St\, Cuthbert\, GA\, United States
END:VEVENT
BEGIN:VEVENT
DTSTART;TZID=America/New_York:20260921T120000
DTEND;TZID=America/New_York:20260921T130000
DTSTAMP:20260424T184957
CREATED:20250116T104030Z
LAST-MODIFIED:20250519T124022Z
UID:15205-1789992000-1789995600@www.andrewcollege.edu
SUMMARY:Phi Theta Kappa Meeting in PDR
DESCRIPTION:
URL:https://www.andrewcollege.edu/event/phi-theta-kappa-meeting-in-pdr-185/
LOCATION:GA
END:VEVENT
BEGIN:VEVENT
DTSTART;TZID=America/New_York:20260922T093000
DTEND;TZID=America/New_York:20260922T110000
DTSTAMP:20260424T184957
CREATED:20250116T104030Z
LAST-MODIFIED:20250618T154020Z
UID:15206-1790069400-1790074800@www.andrewcollege.edu
SUMMARY:Cabinet
DESCRIPTION:
URL:https://www.andrewcollege.edu/event/cabinet-129/
LOCATION:GA
END:VEVENT
BEGIN:VEVENT
DTSTART;TZID=America/New_York:20260922T120000
DTEND;TZID=America/New_York:20260922T130000
DTSTAMP:20260424T184957
CREATED:20250116T104030Z
LAST-MODIFIED:20250618T154020Z
UID:15207-1790078400-1790082000@www.andrewcollege.edu
SUMMARY:Cuthbert Rotary Club Meeting
DESCRIPTION:
URL:https://www.andrewcollege.edu/event/cuthbert-rotary-club-meeting-90/
LOCATION:Turner Dining Hall\, 416 College St\, Cuthbert\, GA\, United States
END:VEVENT
BEGIN:VEVENT
DTSTART;TZID=America/New_York:20260928T120000
DTEND;TZID=America/New_York:20260928T130000
DTSTAMP:20260424T184957
CREATED:20250116T104030Z
LAST-MODIFIED:20250519T124022Z
UID:15208-1790596800-1790600400@www.andrewcollege.edu
SUMMARY:Phi Theta Kappa Meeting in PDR
DESCRIPTION:
URL:https://www.andrewcollege.edu/event/phi-theta-kappa-meeting-in-pdr-186/
LOCATION:GA
END:VEVENT
BEGIN:VEVENT
DTSTART;TZID=America/New_York:20260929T093000
DTEND;TZID=America/New_York:20260929T110000
DTSTAMP:20260424T184957
CREATED:20250116T104030Z
LAST-MODIFIED:20250618T154020Z
UID:15209-1790674200-1790679600@www.andrewcollege.edu
SUMMARY:Cabinet
DESCRIPTION:
URL:https://www.andrewcollege.edu/event/cabinet-130/
LOCATION:GA
END:VEVENT
BEGIN:VEVENT
DTSTART;TZID=America/New_York:20261005T120000
DTEND;TZID=America/New_York:20261005T130000
DTSTAMP:20260424T184957
CREATED:20250116T104031Z
LAST-MODIFIED:20250519T124022Z
UID:15210-1791201600-1791205200@www.andrewcollege.edu
SUMMARY:Phi Theta Kappa Meeting in PDR
DESCRIPTION:
URL:https://www.andrewcollege.edu/event/phi-theta-kappa-meeting-in-pdr-187/
LOCATION:GA
END:VEVENT
BEGIN:VEVENT
DTSTART;TZID=America/New_York:20261006T093000
DTEND;TZID=America/New_York:20261006T110000
DTSTAMP:20260424T184957
CREATED:20250116T104031Z
LAST-MODIFIED:20250618T154021Z
UID:15211-1791279000-1791284400@www.andrewcollege.edu
SUMMARY:Cabinet
DESCRIPTION:
URL:https://www.andrewcollege.edu/event/cabinet-131/
LOCATION:GA
END:VEVENT
BEGIN:VEVENT
DTSTART;TZID=America/New_York:20261008T113000
DTEND;TZID=America/New_York:20261008T130000
DTSTAMP:20260424T184957
CREATED:20250116T104031Z
LAST-MODIFIED:20250618T154021Z
UID:15212-1791459000-1791464400@www.andrewcollege.edu
SUMMARY:Randolph County Chamber of Commerce
DESCRIPTION:
URL:https://www.andrewcollege.edu/event/randolph-county-chamber-of-commerce-31/
LOCATION:Turner Dining Hall\, 416 College St\, Cuthbert\, GA\, United States
END:VEVENT
BEGIN:VEVENT
DTSTART;TZID=America/New_York:20261012T120000
DTEND;TZID=America/New_York:20261012T130000
DTSTAMP:20260424T184957
CREATED:20250116T104031Z
LAST-MODIFIED:20250519T124022Z
UID:15213-1791806400-1791810000@www.andrewcollege.edu
SUMMARY:Phi Theta Kappa Meeting in PDR
DESCRIPTION:
URL:https://www.andrewcollege.edu/event/phi-theta-kappa-meeting-in-pdr-188/
LOCATION:GA
END:VEVENT
BEGIN:VEVENT
DTSTART;TZID=America/New_York:20261013T093000
DTEND;TZID=America/New_York:20261013T110000
DTSTAMP:20260424T184957
CREATED:20250116T104031Z
LAST-MODIFIED:20250618T154021Z
UID:15214-1791883800-1791889200@www.andrewcollege.edu
SUMMARY:Cabinet
DESCRIPTION:
URL:https://www.andrewcollege.edu/event/cabinet-132/
LOCATION:GA
END:VEVENT
BEGIN:VEVENT
DTSTART;TZID=America/New_York:20261013T120000
DTEND;TZID=America/New_York:20261013T130000
DTSTAMP:20260424T184957
CREATED:20250116T104031Z
LAST-MODIFIED:20250618T154021Z
UID:15215-1791892800-1791896400@www.andrewcollege.edu
SUMMARY:Cuthbert Rotary Club Meeting
DESCRIPTION:
URL:https://www.andrewcollege.edu/event/cuthbert-rotary-club-meeting-91/
LOCATION:Turner Dining Hall\, 416 College St\, Cuthbert\, GA\, United States
END:VEVENT
BEGIN:VEVENT
DTSTART;TZID=America/New_York:20261019T120000
DTEND;TZID=America/New_York:20261019T130000
DTSTAMP:20260424T184957
CREATED:20250116T104032Z
LAST-MODIFIED:20250519T124022Z
UID:15216-1792411200-1792414800@www.andrewcollege.edu
SUMMARY:Phi Theta Kappa Meeting in PDR
DESCRIPTION:
URL:https://www.andrewcollege.edu/event/phi-theta-kappa-meeting-in-pdr-189/
LOCATION:GA
END:VEVENT
BEGIN:VEVENT
DTSTART;TZID=America/New_York:20261020T093000
DTEND;TZID=America/New_York:20261020T110000
DTSTAMP:20260424T184957
CREATED:20250116T104032Z
LAST-MODIFIED:20250618T154021Z
UID:15217-1792488600-1792494000@www.andrewcollege.edu
SUMMARY:Cabinet
DESCRIPTION:
URL:https://www.andrewcollege.edu/event/cabinet-133/
LOCATION:GA
END:VEVENT
BEGIN:VEVENT
DTSTART;TZID=America/New_York:20261020T120000
DTEND;TZID=America/New_York:20261020T130000
DTSTAMP:20260424T184957
CREATED:20250116T104032Z
LAST-MODIFIED:20250618T154021Z
UID:15218-1792497600-1792501200@www.andrewcollege.edu
SUMMARY:Cuthbert Rotary Club Meeting
DESCRIPTION:
URL:https://www.andrewcollege.edu/event/cuthbert-rotary-club-meeting-92/
LOCATION:Turner Dining Hall\, 416 College St\, Cuthbert\, GA\, United States
END:VEVENT
BEGIN:VEVENT
DTSTART;TZID=America/New_York:20261026T120000
DTEND;TZID=America/New_York:20261026T130000
DTSTAMP:20260424T184957
CREATED:20250116T104032Z
LAST-MODIFIED:20250519T124023Z
UID:15219-1793016000-1793019600@www.andrewcollege.edu
SUMMARY:Phi Theta Kappa Meeting in PDR
DESCRIPTION:
URL:https://www.andrewcollege.edu/event/phi-theta-kappa-meeting-in-pdr-190/
LOCATION:GA
END:VEVENT
BEGIN:VEVENT
DTSTART;TZID=America/New_York:20261027T093000
DTEND;TZID=America/New_York:20261027T110000
DTSTAMP:20260424T184957
CREATED:20250116T104032Z
LAST-MODIFIED:20250618T154021Z
UID:15220-1793093400-1793098800@www.andrewcollege.edu
SUMMARY:Cabinet
DESCRIPTION:
URL:https://www.andrewcollege.edu/event/cabinet-134/
LOCATION:GA
END:VEVENT
BEGIN:VEVENT
DTSTART;TZID=America/New_York:20261027T120000
DTEND;TZID=America/New_York:20261027T130000
DTSTAMP:20260424T184957
CREATED:20250121T105537Z
LAST-MODIFIED:20250618T154021Z
UID:15283-1793102400-1793106000@www.andrewcollege.edu
SUMMARY:Cuthbert Rotary Club Meeting
DESCRIPTION:
URL:https://www.andrewcollege.edu/event/cuthbert-rotary-club-meeting-93/
LOCATION:Turner Dining Hall\, 416 College St\, Cuthbert\, GA\, United States
END:VEVENT
BEGIN:VEVENT
DTSTART;TZID=America/New_York:20261102T120000
DTEND;TZID=America/New_York:20261102T130000
DTSTAMP:20260424T184957
CREATED:20250121T105543Z
LAST-MODIFIED:20250519T124023Z
UID:15284-1793620800-1793624400@www.andrewcollege.edu
SUMMARY:Phi Theta Kappa Meeting in PDR
DESCRIPTION:
URL:https://www.andrewcollege.edu/event/phi-theta-kappa-meeting-in-pdr-191/
LOCATION:GA
END:VEVENT
BEGIN:VEVENT
DTSTART;TZID=America/New_York:20261103T093000
DTEND;TZID=America/New_York:20261103T110000
DTSTAMP:20260424T184957
CREATED:20250122T105614Z
LAST-MODIFIED:20250618T154021Z
UID:15349-1793698200-1793703600@www.andrewcollege.edu
SUMMARY:Cabinet
DESCRIPTION:
URL:https://www.andrewcollege.edu/event/cabinet-135/
LOCATION:GA
END:VEVENT
END:VCALENDAR