BEGIN:VCALENDAR
VERSION:2.0
PRODID:-//Andrew College - ECPv6.15.20//NONSGML v1.0//EN
CALSCALE:GREGORIAN
METHOD:PUBLISH
X-ORIGINAL-URL:https://www.andrewcollege.edu
X-WR-CALDESC:Events for Andrew College
REFRESH-INTERVAL;VALUE=DURATION:PT1H
X-Robots-Tag:noindex
X-PUBLISHED-TTL:PT1H
BEGIN:VTIMEZONE
TZID:America/New_York
BEGIN:DAYLIGHT
TZOFFSETFROM:-0500
TZOFFSETTO:-0400
TZNAME:EDT
DTSTART:20250309T070000
END:DAYLIGHT
BEGIN:STANDARD
TZOFFSETFROM:-0400
TZOFFSETTO:-0500
TZNAME:EST
DTSTART:20251102T060000
END:STANDARD
BEGIN:DAYLIGHT
TZOFFSETFROM:-0500
TZOFFSETTO:-0400
TZNAME:EDT
DTSTART:20260308T070000
END:DAYLIGHT
BEGIN:STANDARD
TZOFFSETFROM:-0400
TZOFFSETTO:-0500
TZNAME:EST
DTSTART:20261101T060000
END:STANDARD
BEGIN:DAYLIGHT
TZOFFSETFROM:-0500
TZOFFSETTO:-0400
TZNAME:EDT
DTSTART:20270314T070000
END:DAYLIGHT
BEGIN:STANDARD
TZOFFSETFROM:-0400
TZOFFSETTO:-0500
TZNAME:EST
DTSTART:20271107T060000
END:STANDARD
END:VTIMEZONE
BEGIN:VEVENT
DTSTART;TZID=America/New_York:20260526T120000
DTEND;TZID=America/New_York:20260526T130000
DTSTAMP:20260424T135912
CREATED:20240526T142917Z
LAST-MODIFIED:20250618T154018Z
UID:12853-1779796800-1779800400@www.andrewcollege.edu
SUMMARY:Cuthbert Rotary Club Meeting
DESCRIPTION:
URL:https://www.andrewcollege.edu/event/cuthbert-rotary-club-meeting-78/
LOCATION:Turner Dining Hall\, 416 College St\, Cuthbert\, GA\, United States
END:VEVENT
BEGIN:VEVENT
DTSTART;TZID=America/New_York:20260601T120000
DTEND;TZID=America/New_York:20260601T130000
DTSTAMP:20260424T135912
CREATED:20241109T034026Z
LAST-MODIFIED:20250519T124019Z
UID:14630-1780315200-1780318800@www.andrewcollege.edu
SUMMARY:Phi Theta Kappa Meeting in PDR
DESCRIPTION:
URL:https://www.andrewcollege.edu/event/phi-theta-kappa-meeting-in-pdr-169/
LOCATION:GA
END:VEVENT
BEGIN:VEVENT
DTSTART;TZID=America/New_York:20260602T093000
DTEND;TZID=America/New_York:20260602T110000
DTSTAMP:20260424T135912
CREATED:20240602T144152Z
LAST-MODIFIED:20250618T154018Z
UID:12870-1780392600-1780398000@www.andrewcollege.edu
SUMMARY:Cabinet
DESCRIPTION:
URL:https://www.andrewcollege.edu/event/cabinet-113/
LOCATION:GA
END:VEVENT
BEGIN:VEVENT
DTSTART;TZID=America/New_York:20260608T120000
DTEND;TZID=America/New_York:20260608T130000
DTSTAMP:20260424T135912
CREATED:20241113T034036Z
LAST-MODIFIED:20250519T124019Z
UID:14638-1780920000-1780923600@www.andrewcollege.edu
SUMMARY:Phi Theta Kappa Meeting in PDR
DESCRIPTION:
URL:https://www.andrewcollege.edu/event/phi-theta-kappa-meeting-in-pdr-170/
LOCATION:GA
END:VEVENT
BEGIN:VEVENT
DTSTART;TZID=America/New_York:20260609T093000
DTEND;TZID=America/New_York:20260609T110000
DTSTAMP:20260424T135912
CREATED:20240609T144041Z
LAST-MODIFIED:20250618T154019Z
UID:12886-1780997400-1781002800@www.andrewcollege.edu
SUMMARY:Cabinet
DESCRIPTION:
URL:https://www.andrewcollege.edu/event/cabinet-114/
LOCATION:GA
END:VEVENT
BEGIN:VEVENT
DTSTART;TZID=America/New_York:20260609T120000
DTEND;TZID=America/New_York:20260609T130000
DTSTAMP:20260424T135912
CREATED:20240609T144041Z
LAST-MODIFIED:20250618T154019Z
UID:12887-1781006400-1781010000@www.andrewcollege.edu
SUMMARY:Cuthbert Rotary Club Meeting
DESCRIPTION:
URL:https://www.andrewcollege.edu/event/cuthbert-rotary-club-meeting-79/
LOCATION:Turner Dining Hall\, 416 College St\, Cuthbert\, GA\, United States
END:VEVENT
BEGIN:VEVENT
DTSTART;TZID=America/New_York:20260609T153000
DTEND;TZID=America/New_York:20260609T163000
DTSTAMP:20260424T135912
CREATED:20240609T144041Z
LAST-MODIFIED:20250115T104037Z
UID:12888-1781019000-1781022600@www.andrewcollege.edu
SUMMARY:Faculty Meeting
DESCRIPTION:
URL:https://www.andrewcollege.edu/event/faculty-meeting-27/
LOCATION:GA
END:VEVENT
BEGIN:VEVENT
DTSTART;TZID=America/New_York:20260611T113000
DTEND;TZID=America/New_York:20260611T130000
DTSTAMP:20260424T135912
CREATED:20240611T145600Z
LAST-MODIFIED:20250618T154019Z
UID:13103-1781177400-1781182800@www.andrewcollege.edu
SUMMARY:Randolph County Chamber of Commerce
DESCRIPTION:
URL:https://www.andrewcollege.edu/event/randolph-county-chamber-of-commerce-27/
LOCATION:Turner Dining Hall\, 416 College St\, Cuthbert\, GA\, United States
END:VEVENT
BEGIN:VEVENT
DTSTART;TZID=America/New_York:20260615T120000
DTEND;TZID=America/New_York:20260615T130000
DTSTAMP:20260424T135912
CREATED:20241123T041020Z
LAST-MODIFIED:20250519T124019Z
UID:14790-1781524800-1781528400@www.andrewcollege.edu
SUMMARY:Phi Theta Kappa Meeting in PDR
DESCRIPTION:
URL:https://www.andrewcollege.edu/event/phi-theta-kappa-meeting-in-pdr-171/
LOCATION:GA
END:VEVENT
BEGIN:VEVENT
DTSTART;TZID=America/New_York:20260616T093000
DTEND;TZID=America/New_York:20260616T110000
DTSTAMP:20260424T135912
CREATED:20240616T164314Z
LAST-MODIFIED:20250618T154019Z
UID:13117-1781602200-1781607600@www.andrewcollege.edu
SUMMARY:Cabinet
DESCRIPTION:
URL:https://www.andrewcollege.edu/event/cabinet-115/
LOCATION:GA
END:VEVENT
BEGIN:VEVENT
DTSTART;TZID=America/New_York:20260616T120000
DTEND;TZID=America/New_York:20260616T130000
DTSTAMP:20260424T135912
CREATED:20240616T164315Z
LAST-MODIFIED:20250618T154019Z
UID:13118-1781611200-1781614800@www.andrewcollege.edu
SUMMARY:Cuthbert Rotary Club Meeting
DESCRIPTION:
URL:https://www.andrewcollege.edu/event/cuthbert-rotary-club-meeting-80/
LOCATION:Turner Dining Hall\, 416 College St\, Cuthbert\, GA\, United States
END:VEVENT
BEGIN:VEVENT
DTSTART;TZID=America/New_York:20260622T120000
DTEND;TZID=America/New_York:20260622T130000
DTSTAMP:20260424T135912
CREATED:20241127T042528Z
LAST-MODIFIED:20250519T124019Z
UID:14833-1782129600-1782133200@www.andrewcollege.edu
SUMMARY:Phi Theta Kappa Meeting in PDR
DESCRIPTION:
URL:https://www.andrewcollege.edu/event/phi-theta-kappa-meeting-in-pdr-172/
LOCATION:GA
END:VEVENT
BEGIN:VEVENT
DTSTART;TZID=America/New_York:20260623T093000
DTEND;TZID=America/New_York:20260623T110000
DTSTAMP:20260424T135912
CREATED:20240623T174018Z
LAST-MODIFIED:20250618T154019Z
UID:13147-1782207000-1782212400@www.andrewcollege.edu
SUMMARY:Cabinet
DESCRIPTION:
URL:https://www.andrewcollege.edu/event/cabinet-116/
LOCATION:GA
END:VEVENT
BEGIN:VEVENT
DTSTART;TZID=America/New_York:20260623T120000
DTEND;TZID=America/New_York:20260623T130000
DTSTAMP:20260424T135912
CREATED:20240623T174018Z
LAST-MODIFIED:20250618T154019Z
UID:13148-1782216000-1782219600@www.andrewcollege.edu
SUMMARY:Cuthbert Rotary Club Meeting
DESCRIPTION:
URL:https://www.andrewcollege.edu/event/cuthbert-rotary-club-meeting-81/
LOCATION:Turner Dining Hall\, 416 College St\, Cuthbert\, GA\, United States
END:VEVENT
BEGIN:VEVENT
DTSTART;TZID=America/New_York:20260629T120000
DTEND;TZID=America/New_York:20260629T130000
DTSTAMP:20260424T135912
CREATED:20241204T051027Z
LAST-MODIFIED:20250519T124019Z
UID:14845-1782734400-1782738000@www.andrewcollege.edu
SUMMARY:Phi Theta Kappa Meeting in PDR
DESCRIPTION:
URL:https://www.andrewcollege.edu/event/phi-theta-kappa-meeting-in-pdr-173/
LOCATION:GA
END:VEVENT
BEGIN:VEVENT
DTSTART;TZID=America/New_York:20260630T093000
DTEND;TZID=America/New_York:20260630T110000
DTSTAMP:20260424T135912
CREATED:20240630T175659Z
LAST-MODIFIED:20250618T154019Z
UID:13184-1782811800-1782817200@www.andrewcollege.edu
SUMMARY:Cabinet
DESCRIPTION:
URL:https://www.andrewcollege.edu/event/cabinet-117/
LOCATION:GA
END:VEVENT
BEGIN:VEVENT
DTSTART;TZID=America/New_York:20260706T120000
DTEND;TZID=America/New_York:20260706T130000
DTSTAMP:20260424T135912
CREATED:20241206T051032Z
LAST-MODIFIED:20250519T124019Z
UID:14858-1783339200-1783342800@www.andrewcollege.edu
SUMMARY:Phi Theta Kappa Meeting in PDR
DESCRIPTION:
URL:https://www.andrewcollege.edu/event/phi-theta-kappa-meeting-in-pdr-174/
LOCATION:GA
END:VEVENT
BEGIN:VEVENT
DTSTART;TZID=America/New_York:20260707T093000
DTEND;TZID=America/New_York:20260707T110000
DTSTAMP:20260424T135912
CREATED:20240707T175518Z
LAST-MODIFIED:20250618T154019Z
UID:13204-1783416600-1783422000@www.andrewcollege.edu
SUMMARY:Cabinet
DESCRIPTION:
URL:https://www.andrewcollege.edu/event/cabinet-118/
LOCATION:GA
END:VEVENT
BEGIN:VEVENT
DTSTART;TZID=America/New_York:20260709T113000
DTEND;TZID=America/New_York:20260709T130000
DTSTAMP:20260424T135912
CREATED:20240709T175534Z
LAST-MODIFIED:20250618T154019Z
UID:13217-1783596600-1783602000@www.andrewcollege.edu
SUMMARY:Randolph County Chamber of Commerce
DESCRIPTION:
URL:https://www.andrewcollege.edu/event/randolph-county-chamber-of-commerce-28/
LOCATION:Turner Dining Hall\, 416 College St\, Cuthbert\, GA\, United States
END:VEVENT
BEGIN:VEVENT
DTSTART;TZID=America/New_York:20260713T120000
DTEND;TZID=America/New_York:20260713T130000
DTSTAMP:20260424T135912
CREATED:20241210T055552Z
LAST-MODIFIED:20250519T124020Z
UID:14874-1783944000-1783947600@www.andrewcollege.edu
SUMMARY:Phi Theta Kappa Meeting in PDR
DESCRIPTION:
URL:https://www.andrewcollege.edu/event/phi-theta-kappa-meeting-in-pdr-175/
LOCATION:GA
END:VEVENT
BEGIN:VEVENT
DTSTART;TZID=America/New_York:20260714T093000
DTEND;TZID=America/New_York:20260714T110000
DTSTAMP:20260424T135912
CREATED:20240714T181023Z
LAST-MODIFIED:20250618T154019Z
UID:13268-1784021400-1784026800@www.andrewcollege.edu
SUMMARY:Cabinet
DESCRIPTION:
URL:https://www.andrewcollege.edu/event/cabinet-119/
LOCATION:GA
END:VEVENT
BEGIN:VEVENT
DTSTART;TZID=America/New_York:20260714T120000
DTEND;TZID=America/New_York:20260714T130000
DTSTAMP:20260424T135912
CREATED:20240714T181023Z
LAST-MODIFIED:20250618T154019Z
UID:13269-1784030400-1784034000@www.andrewcollege.edu
SUMMARY:Cuthbert Rotary Club Meeting
DESCRIPTION:
URL:https://www.andrewcollege.edu/event/cuthbert-rotary-club-meeting-82/
LOCATION:Turner Dining Hall\, 416 College St\, Cuthbert\, GA\, United States
END:VEVENT
BEGIN:VEVENT
DTSTART;TZID=America/New_York:20260714T153000
DTEND;TZID=America/New_York:20260714T163000
DTSTAMP:20260424T135912
CREATED:20240714T181023Z
LAST-MODIFIED:20250115T104038Z
UID:13270-1784043000-1784046600@www.andrewcollege.edu
SUMMARY:Faculty Meeting
DESCRIPTION:
URL:https://www.andrewcollege.edu/event/faculty-meeting-28/
LOCATION:GA
END:VEVENT
BEGIN:VEVENT
DTSTART;TZID=America/New_York:20260720T120000
DTEND;TZID=America/New_York:20260720T130000
DTSTAMP:20260424T135912
CREATED:20241213T064032Z
LAST-MODIFIED:20250519T124020Z
UID:15032-1784548800-1784552400@www.andrewcollege.edu
SUMMARY:Phi Theta Kappa Meeting in PDR
DESCRIPTION:
URL:https://www.andrewcollege.edu/event/phi-theta-kappa-meeting-in-pdr-176/
LOCATION:GA
END:VEVENT
BEGIN:VEVENT
DTSTART;TZID=America/New_York:20260721T093000
DTEND;TZID=America/New_York:20260721T110000
DTSTAMP:20260424T135912
CREATED:20240721T185538Z
LAST-MODIFIED:20250618T154019Z
UID:13405-1784626200-1784631600@www.andrewcollege.edu
SUMMARY:Cabinet
DESCRIPTION:
URL:https://www.andrewcollege.edu/event/cabinet-120/
LOCATION:GA
END:VEVENT
BEGIN:VEVENT
DTSTART;TZID=America/New_York:20260721T120000
DTEND;TZID=America/New_York:20260721T130000
DTSTAMP:20260424T135912
CREATED:20240721T185538Z
LAST-MODIFIED:20250618T154019Z
UID:13406-1784635200-1784638800@www.andrewcollege.edu
SUMMARY:Cuthbert Rotary Club Meeting
DESCRIPTION:
URL:https://www.andrewcollege.edu/event/cuthbert-rotary-club-meeting-83/
LOCATION:Turner Dining Hall\, 416 College St\, Cuthbert\, GA\, United States
END:VEVENT
BEGIN:VEVENT
DTSTART;TZID=America/New_York:20260727T120000
DTEND;TZID=America/New_York:20260727T130000
DTSTAMP:20260424T135912
CREATED:20241214T064040Z
LAST-MODIFIED:20250519T124020Z
UID:15037-1785153600-1785157200@www.andrewcollege.edu
SUMMARY:Phi Theta Kappa Meeting in PDR
DESCRIPTION:
URL:https://www.andrewcollege.edu/event/phi-theta-kappa-meeting-in-pdr-177/
LOCATION:GA
END:VEVENT
BEGIN:VEVENT
DTSTART;TZID=America/New_York:20260728T093000
DTEND;TZID=America/New_York:20260728T110000
DTSTAMP:20260424T135912
CREATED:20240728T195712Z
LAST-MODIFIED:20250618T154019Z
UID:13421-1785231000-1785236400@www.andrewcollege.edu
SUMMARY:Cabinet
DESCRIPTION:
URL:https://www.andrewcollege.edu/event/cabinet-121/
LOCATION:GA
END:VEVENT
BEGIN:VEVENT
DTSTART;TZID=America/New_York:20260728T120000
DTEND;TZID=America/New_York:20260728T130000
DTSTAMP:20260424T135912
CREATED:20240728T195712Z
LAST-MODIFIED:20250618T154019Z
UID:13422-1785240000-1785243600@www.andrewcollege.edu
SUMMARY:Cuthbert Rotary Club Meeting
DESCRIPTION:
URL:https://www.andrewcollege.edu/event/cuthbert-rotary-club-meeting-84/
LOCATION:Turner Dining Hall\, 416 College St\, Cuthbert\, GA\, United States
END:VEVENT
BEGIN:VEVENT
DTSTART;TZID=America/New_York:20260803T120000
DTEND;TZID=America/New_York:20260803T130000
DTSTAMP:20260424T135912
CREATED:20241218T072535Z
LAST-MODIFIED:20250519T124020Z
UID:15053-1785758400-1785762000@www.andrewcollege.edu
SUMMARY:Phi Theta Kappa Meeting in PDR
DESCRIPTION:
URL:https://www.andrewcollege.edu/event/phi-theta-kappa-meeting-in-pdr-178/
LOCATION:GA
END:VEVENT
END:VCALENDAR